BEGIN:VCALENDAR
VERSION:2.0
PRODID:-//Go-Murphy - ECPv6.15.20//NONSGML v1.0//EN
CALSCALE:GREGORIAN
METHOD:PUBLISH
X-WR-CALNAME:Go-Murphy
X-ORIGINAL-URL:https://go-murphy.com
X-WR-CALDESC:Events for Go-Murphy
REFRESH-INTERVAL;VALUE=DURATION:PT1H
X-Robots-Tag:noindex
X-PUBLISHED-TTL:PT1H
BEGIN:VTIMEZONE
TZID:America/New_York
BEGIN:DAYLIGHT
TZOFFSETFROM:-0500
TZOFFSETTO:-0400
TZNAME:EDT
DTSTART:20240310T070000
END:DAYLIGHT
BEGIN:STANDARD
TZOFFSETFROM:-0400
TZOFFSETTO:-0500
TZNAME:EST
DTSTART:20241103T060000
END:STANDARD
BEGIN:DAYLIGHT
TZOFFSETFROM:-0500
TZOFFSETTO:-0400
TZNAME:EDT
DTSTART:20250309T070000
END:DAYLIGHT
BEGIN:STANDARD
TZOFFSETFROM:-0400
TZOFFSETTO:-0500
TZNAME:EST
DTSTART:20251102T060000
END:STANDARD
BEGIN:DAYLIGHT
TZOFFSETFROM:-0500
TZOFFSETTO:-0400
TZNAME:EDT
DTSTART:20260308T070000
END:DAYLIGHT
BEGIN:STANDARD
TZOFFSETFROM:-0400
TZOFFSETTO:-0500
TZNAME:EST
DTSTART:20261101T060000
END:STANDARD
END:VTIMEZONE
BEGIN:VEVENT
DTSTART;VALUE=DATE:20251018
DTEND;VALUE=DATE:20251019
DTSTAMP:20260421T050144
CREATED:20251016T004205Z
LAST-MODIFIED:20251016T004845Z
UID:2174-1760745600-1760831999@go-murphy.com
SUMMARY:Join Me at a “No Kings” Event - 2025-10
DESCRIPTION:This weekend\, I’ll be attending a No Kings event to stand with others who believe in democracy\, accountability\, and freedom from authoritarian power. This movement is about one simple truth: America has no kings. \nIf you’d like to participate\, you can find your local protest or gathering using the national event map at NoKings.org/map. \nWhether you’re marching\, volunteering\, or spreading the word online\, your voice matters. Together\, we remind our leaders that power belongs to the people\, not the throne.
URL:https://go-murphy.com/event/join-me-at-a-no-kings-event-2025-10/
CATEGORIES:Events Attending
ATTACH;FMTTYPE=image/avif:https://go-murphy.com/wp-content/uploads/2025/10/No-Kings.avif
END:VEVENT
END:VCALENDAR