BEGIN:VCALENDAR
VERSION:2.0
PRODID:-//Go-Murphy - ECPv6.15.20//NONSGML v1.0//EN
CALSCALE:GREGORIAN
METHOD:PUBLISH
X-WR-CALNAME:Go-Murphy
X-ORIGINAL-URL:https://go-murphy.com
X-WR-CALDESC:Events for Go-Murphy
REFRESH-INTERVAL;VALUE=DURATION:PT1H
X-Robots-Tag:noindex
X-PUBLISHED-TTL:PT1H
BEGIN:VTIMEZONE
TZID:America/New_York
BEGIN:DAYLIGHT
TZOFFSETFROM:-0500
TZOFFSETTO:-0400
TZNAME:EDT
DTSTART:20240310T070000
END:DAYLIGHT
BEGIN:STANDARD
TZOFFSETFROM:-0400
TZOFFSETTO:-0500
TZNAME:EST
DTSTART:20241103T060000
END:STANDARD
BEGIN:DAYLIGHT
TZOFFSETFROM:-0500
TZOFFSETTO:-0400
TZNAME:EDT
DTSTART:20250309T070000
END:DAYLIGHT
BEGIN:STANDARD
TZOFFSETFROM:-0400
TZOFFSETTO:-0500
TZNAME:EST
DTSTART:20251102T060000
END:STANDARD
BEGIN:DAYLIGHT
TZOFFSETFROM:-0500
TZOFFSETTO:-0400
TZNAME:EDT
DTSTART:20260308T070000
END:DAYLIGHT
BEGIN:STANDARD
TZOFFSETFROM:-0400
TZOFFSETTO:-0500
TZNAME:EST
DTSTART:20261101T060000
END:STANDARD
END:VTIMEZONE
BEGIN:VEVENT
DTSTART;TZID=America/New_York:20251007T190000
DTEND;TZID=America/New_York:20251007T210000
DTSTAMP:20260421T114833
CREATED:20251007T024450Z
LAST-MODIFIED:20251007T024450Z
UID:2160-1759863600-1759870800@go-murphy.com
SUMMARY:LP Chicago Monthly Meeting - October 2025
DESCRIPTION:I will be in attendance at the October 2025 LP Chicago monthly meeting. \nWe’re collecting optional canned food donations for Mission of Our Lady of the Angels Food Pantry. Every can helps a local family in need\, and I’ll match each can with a $1 donation\, up to $500. \nLet’s connect\, share ideas\, and make a difference together.
URL:https://go-murphy.com/event/lp-chicago-monthly-meeting-october-2025/
LOCATION:Fatpour Tap Works – Wicker Park\, 2005 W Division St.\, Chicago\, IL\, 60622\, United States
CATEGORIES:Events Attending
ATTACH;FMTTYPE=image/jpeg:https://go-murphy.com/wp-content/uploads/2025/07/Fatpour.jpg
END:VEVENT
END:VCALENDAR