BEGIN:VCALENDAR
VERSION:2.0
PRODID:-//Go-Murphy - ECPv6.15.20//NONSGML v1.0//EN
CALSCALE:GREGORIAN
METHOD:PUBLISH
X-WR-CALNAME:Go-Murphy
X-ORIGINAL-URL:https://go-murphy.com
X-WR-CALDESC:Events for Go-Murphy
REFRESH-INTERVAL;VALUE=DURATION:PT1H
X-Robots-Tag:noindex
X-PUBLISHED-TTL:PT1H
BEGIN:VTIMEZONE
TZID:America/New_York
BEGIN:DAYLIGHT
TZOFFSETFROM:-0500
TZOFFSETTO:-0400
TZNAME:EDT
DTSTART:20240310T070000
END:DAYLIGHT
BEGIN:STANDARD
TZOFFSETFROM:-0400
TZOFFSETTO:-0500
TZNAME:EST
DTSTART:20241103T060000
END:STANDARD
BEGIN:DAYLIGHT
TZOFFSETFROM:-0500
TZOFFSETTO:-0400
TZNAME:EDT
DTSTART:20250309T070000
END:DAYLIGHT
BEGIN:STANDARD
TZOFFSETFROM:-0400
TZOFFSETTO:-0500
TZNAME:EST
DTSTART:20251102T060000
END:STANDARD
BEGIN:DAYLIGHT
TZOFFSETFROM:-0500
TZOFFSETTO:-0400
TZNAME:EDT
DTSTART:20260308T070000
END:DAYLIGHT
BEGIN:STANDARD
TZOFFSETFROM:-0400
TZOFFSETTO:-0500
TZNAME:EST
DTSTART:20261101T060000
END:STANDARD
END:VTIMEZONE
BEGIN:VEVENT
DTSTART;TZID=America/New_York:20250902T190000
DTEND;TZID=America/New_York:20250902T210000
DTSTAMP:20260421T084330
CREATED:20250829T022742Z
LAST-MODIFIED:20250831T222957Z
UID:2073-1756839600-1756846800@go-murphy.com
SUMMARY:LP Chicago Monthly Meeting - September 2025
DESCRIPTION:Join me as I will be the presenter for LP Chicago Monthly at 8 PM as their guest speaker. Come out and hear what I have to say\, and give you a chance to ask questions or bring up concerns that you may have. \nWe’re also collecting optional canned food donations for Mission of Our Lady of the Angels Food Pantry. Every can helps a local family in need\, and I’ll match each can with a $1 donation\, up to $500. \nLet’s connect\, share ideas\, and make a difference together.
URL:https://go-murphy.com/event/lp-chicago-monthly-meeting-september-2025/
LOCATION:Fatpour Tap Works – Wicker Park\, 2005 W Division St.\, Chicago\, IL\, 60622\, United States
CATEGORIES:Events Speaking
ATTACH;FMTTYPE=image/jpeg:https://go-murphy.com/wp-content/uploads/2025/07/Fatpour.jpg
END:VEVENT
END:VCALENDAR