BEGIN:VCALENDAR
VERSION:2.0
PRODID:-//Go-Murphy - ECPv6.15.20//NONSGML v1.0//EN
CALSCALE:GREGORIAN
METHOD:PUBLISH
X-WR-CALNAME:Go-Murphy
X-ORIGINAL-URL:https://go-murphy.com
X-WR-CALDESC:Events for Go-Murphy
REFRESH-INTERVAL;VALUE=DURATION:PT1H
X-Robots-Tag:noindex
X-PUBLISHED-TTL:PT1H
BEGIN:VTIMEZONE
TZID:America/New_York
BEGIN:DAYLIGHT
TZOFFSETFROM:-0500
TZOFFSETTO:-0400
TZNAME:EDT
DTSTART:20240310T070000
END:DAYLIGHT
BEGIN:STANDARD
TZOFFSETFROM:-0400
TZOFFSETTO:-0500
TZNAME:EST
DTSTART:20241103T060000
END:STANDARD
BEGIN:DAYLIGHT
TZOFFSETFROM:-0500
TZOFFSETTO:-0400
TZNAME:EDT
DTSTART:20250309T070000
END:DAYLIGHT
BEGIN:STANDARD
TZOFFSETFROM:-0400
TZOFFSETTO:-0500
TZNAME:EST
DTSTART:20251102T060000
END:STANDARD
BEGIN:DAYLIGHT
TZOFFSETFROM:-0500
TZOFFSETTO:-0400
TZNAME:EDT
DTSTART:20260308T070000
END:DAYLIGHT
BEGIN:STANDARD
TZOFFSETFROM:-0400
TZOFFSETTO:-0500
TZNAME:EST
DTSTART:20261101T060000
END:STANDARD
END:VTIMEZONE
BEGIN:VEVENT
DTSTART;TZID=America/New_York:20250914T190000
DTEND;TZID=America/New_York:20250914T210000
DTSTAMP:20260422T114533
CREATED:20250813T030856Z
LAST-MODIFIED:20250905T020450Z
UID:1998-1757876400-1757883600@go-murphy.com
SUMMARY:Meet and Greet Southern Cook County - September 2025
DESCRIPTION:Join me for a casual evening to talk about the issues that matter most to Cook County! \nThis is your chance to share your ideas\, ask questions\, and connect with our grassroots campaign. \nThis campaign is powered by neighbors like you\, no big donors\, just people who care about our community. \nWe’re also collecting optional canned food donations for Mission of Our Lady of the Angels Food Pantry. Every can helps a local family in need\, and I’ll match each can with a $1 donation\, up to $500. \nLet’s connect\, share ideas\, and make a difference together.
URL:https://go-murphy.com/event/meet-and-greet-southern-cook-county-september-2025/
LOCATION:Cooper’s Bar and Grill\, 15158 S Cicero Ave\, Oak Forest\, IL\, 60452\, United States
CATEGORIES:Events Hosting
ATTACH;FMTTYPE=image/png:https://go-murphy.com/wp-content/uploads/2025/08/Coopers-Bar-and-Grill.png
END:VEVENT
END:VCALENDAR