BEGIN:VCALENDAR
VERSION:2.0
PRODID:-//Go-Murphy - ECPv6.15.20//NONSGML v1.0//EN
CALSCALE:GREGORIAN
METHOD:PUBLISH
X-WR-CALNAME:Go-Murphy
X-ORIGINAL-URL:https://go-murphy.com
X-WR-CALDESC:Events for Go-Murphy
REFRESH-INTERVAL;VALUE=DURATION:PT1H
X-Robots-Tag:noindex
X-PUBLISHED-TTL:PT1H
BEGIN:VTIMEZONE
TZID:America/New_York
BEGIN:DAYLIGHT
TZOFFSETFROM:-0500
TZOFFSETTO:-0400
TZNAME:EDT
DTSTART:20250309T070000
END:DAYLIGHT
BEGIN:STANDARD
TZOFFSETFROM:-0400
TZOFFSETTO:-0500
TZNAME:EST
DTSTART:20251102T060000
END:STANDARD
BEGIN:DAYLIGHT
TZOFFSETFROM:-0500
TZOFFSETTO:-0400
TZNAME:EDT
DTSTART:20260308T070000
END:DAYLIGHT
BEGIN:STANDARD
TZOFFSETFROM:-0400
TZOFFSETTO:-0500
TZNAME:EST
DTSTART:20261101T060000
END:STANDARD
BEGIN:DAYLIGHT
TZOFFSETFROM:-0500
TZOFFSETTO:-0400
TZNAME:EDT
DTSTART:20270314T070000
END:DAYLIGHT
BEGIN:STANDARD
TZOFFSETFROM:-0400
TZOFFSETTO:-0500
TZNAME:EST
DTSTART:20271107T060000
END:STANDARD
END:VTIMEZONE
BEGIN:VEVENT
DTSTART;TZID=America/New_York:20260219T070000
DTEND;TZID=America/New_York:20260219T100000
DTSTAMP:20260422T045623
CREATED:20260210T194913Z
LAST-MODIFIED:20260210T212939Z
UID:2579-1771484400-1771495200@go-murphy.com
SUMMARY:Picket the Real Estate Investment Association's (REIA) Cook County Assessor Candidate Debate
DESCRIPTION:I will be attending and supporting the picket of the event originally promoted as the Real Estate Investment Association’s (REIA) Cook County Assessor Candidate Debate. \nThe event was later renamed the Cook County Assessor Democratic Candidate Debate after concerns were raised\, resulting in at least one qualified candidate being excluded from participating. Regardless of intent\, changing the structure or branding of a public forum in ways that limit who can participate undermines open debate and voter trust. \nCandidates should be challenged\, questioned\, and compared in public—especially on an issue as important as property taxation. Voters deserve inclusive\, transparent forums where all qualified candidates can present their ideas and be held accountable.
URL:https://go-murphy.com/event/picket-the-real-estate-investment-associations-reia-cook-county-assessor-candidate-debate/
LOCATION:Maggiano’s Banquets\, 111 W. Grand\, Chicago\, IL\, 60654\, United States
CATEGORIES:Events Attending
ATTACH;FMTTYPE=image/jpeg:https://go-murphy.com/wp-content/uploads/2026/02/Debate-Nico.jpg
END:VEVENT
END:VCALENDAR